Package: beer Version: 1.11.0 Command: /Library/Frameworks/R.framework/Resources/bin/R CMD check --install=check:beer.install-out.txt --library=/Library/Frameworks/R.framework/Resources/library --no-vignettes --timings beer_1.11.0.tar.gz StartedAt: 2025-02-20 18:11:47 -0500 (Thu, 20 Feb 2025) EndedAt: 2025-02-20 18:15:51 -0500 (Thu, 20 Feb 2025) EllapsedTime: 244.4 seconds RetCode: 0 Status: OK CheckDir: beer.Rcheck Warnings: 0