Package: beer Version: 1.11.0 Command: /Library/Frameworks/R.framework/Resources/bin/R CMD build --keep-empty-dirs --no-resave-data beer StartedAt: 2025-02-20 15:38:57 -0500 (Thu, 20 Feb 2025) EndedAt: 2025-02-20 15:39:57 -0500 (Thu, 20 Feb 2025) EllapsedTime: 59.6 seconds RetCode: 0 Status: OK PackageFile: beer_1.11.0.tar.gz PackageFileSize: 609.7 KiB