Package: beer Version: 1.11.0 Command: rm -rf beer.buildbin-libdir && mkdir beer.buildbin-libdir && /Users/biocbuild/BBS/utils/build-universal.sh beer_1.11.0.tar.gz /Library/Frameworks/R.framework/Resources/bin/R beer.buildbin-libdir StartedAt: 2025-02-20 22:11:15 -0500 (Thu, 20 Feb 2025) EndedAt: 2025-02-20 22:11:29 -0500 (Thu, 20 Feb 2025) EllapsedTime: 13.3 seconds RetCode: 0 Status: OK PackageFile: beer_1.11.0.tgz PackageFileSize: 705.9 KiB