Package: beadarray Version: 2.58.0 Command: /Library/Frameworks/R.framework/Resources/bin/R CMD INSTALL beadarray StartedAt: 2025-10-13 16:38:51 -0400 (Mon, 13 Oct 2025) EndedAt: 2025-10-13 16:39:22 -0400 (Mon, 13 Oct 2025) EllapsedTime: 30.7 seconds RetCode: 0 Status: OK