Package: beachmat Version: 2.23.6 Command: /Library/Frameworks/R.framework/Resources/bin/R CMD build --keep-empty-dirs --no-resave-data beachmat StartedAt: 2025-02-18 15:56:18 -0500 (Tue, 18 Feb 2025) EndedAt: 2025-02-18 15:59:51 -0500 (Tue, 18 Feb 2025) EllapsedTime: 212.4 seconds RetCode: 0 Status: OK PackageFile: beachmat_2.23.6.tar.gz PackageFileSize: 368.5 KiB