Package: beachmat Version: 2.23.6 Command: rm -rf beachmat.buildbin-libdir && mkdir beachmat.buildbin-libdir && /Users/biocbuild/BBS/utils/build-universal.sh beachmat_2.23.6.tar.gz /Library/Frameworks/R.framework/Resources/bin/R beachmat.buildbin-libdir StartedAt: 2025-02-20 00:21:36 -0500 (Thu, 20 Feb 2025) EndedAt: 2025-02-20 00:26:00 -0500 (Thu, 20 Feb 2025) EllapsedTime: 264.3 seconds RetCode: 0 Status: OK PackageFile: beachmat_2.23.6.tgz PackageFileSize: 1.823 MiB