Package: beachmat.tiledb Version: 0.99.1 Command: /Library/Frameworks/R.framework/Resources/bin/R CMD INSTALL beachmat.tiledb StartedAt: 2025-02-20 15:12:05 -0500 (Thu, 20 Feb 2025) EndedAt: 2025-02-20 15:14:06 -0500 (Thu, 20 Feb 2025) EllapsedTime: 120.8 seconds RetCode: 0 Status: OK