Package: beachmat.tiledb Version: 0.99.1 Command: /home/biocbuild/R/R/bin/R CMD INSTALL beachmat.tiledb StartedAt: 2025-01-29 19:44:18 -0000 (Wed, 29 Jan 2025) EndedAt: 2025-01-29 19:44:20 -0000 (Wed, 29 Jan 2025) EllapsedTime: 1.8 seconds RetCode: 1 Status: ERROR