Package: beachmat.tiledb Version: 0.99.1 Command: /Library/Frameworks/R.framework/Resources/bin/R CMD INSTALL beachmat.tiledb StartedAt: 2025-02-20 15:04:57 -0500 (Thu, 20 Feb 2025) EndedAt: 2025-02-20 15:05:28 -0500 (Thu, 20 Feb 2025) EllapsedTime: 31.3 seconds RetCode: 0 Status: OK