Package: beachmat.tiledb Version: 0.99.1 Command: /Library/Frameworks/R.framework/Resources/bin/R CMD build --keep-empty-dirs --no-resave-data beachmat.tiledb StartedAt: 2025-02-20 15:38:13 -0500 (Thu, 20 Feb 2025) EndedAt: 2025-02-20 15:38:48 -0500 (Thu, 20 Feb 2025) EllapsedTime: 34.4 seconds RetCode: 0 Status: OK PackageFile: beachmat.tiledb_0.99.1.tar.gz PackageFileSize: 321.8 KiB