Package: beachmat.hdf5 Version: 1.5.1 Command: E:\biocbuild\bbs-3.21-bioc\R\bin\R.exe CMD INSTALL beachmat.hdf5 StartedAt: 2025-02-19 15:41:37 -0500 (Wed, 19 Feb 2025) EndedAt: 2025-02-19 15:42:55 -0500 (Wed, 19 Feb 2025) EllapsedTime: 77.1 seconds RetCode: 0 Status: OK