Package: beachmat.hdf5 Version: 1.5.1 Command: /Library/Frameworks/R.framework/Resources/bin/R CMD INSTALL beachmat.hdf5 StartedAt: 2025-02-20 15:12:04 -0500 (Thu, 20 Feb 2025) EndedAt: 2025-02-20 15:13:10 -0500 (Thu, 20 Feb 2025) EllapsedTime: 65.9 seconds RetCode: 0 Status: OK