Package: beachmat.hdf5 Version: 1.5.1 Command: /Library/Frameworks/R.framework/Resources/bin/R CMD build --keep-empty-dirs --no-resave-data beachmat.hdf5 StartedAt: 2025-02-20 15:56:33 -0500 (Thu, 20 Feb 2025) EndedAt: 2025-02-20 15:57:37 -0500 (Thu, 20 Feb 2025) EllapsedTime: 64.0 seconds RetCode: 0 Status: OK PackageFile: beachmat.hdf5_1.5.1.tar.gz PackageFileSize: 297.2 KiB