Package: beachmat.hdf5 Version: 1.5.1 Command: /Library/Frameworks/R.framework/Resources/bin/R CMD INSTALL beachmat.hdf5 StartedAt: 2025-02-19 15:04:59 -0500 (Wed, 19 Feb 2025) EndedAt: 2025-02-19 15:05:18 -0500 (Wed, 19 Feb 2025) EllapsedTime: 18.5 seconds RetCode: 0 Status: OK