Package: bcSeq Version: 1.29.0 Command: chmod a+r bcSeq -R && E:\biocbuild\bbs-3.21-bioc\R\bin\R.exe CMD build --keep-empty-dirs --no-resave-data bcSeq StartedAt: 2025-02-19 17:22:53 -0500 (Wed, 19 Feb 2025) EndedAt: 2025-02-19 17:24:04 -0500 (Wed, 19 Feb 2025) EllapsedTime: 71.0 seconds RetCode: 1 Status: ERROR PackageFile: None PackageFileSize: NA