Package: bcSeq Version: 1.29.0 Command: /home/biocbuild/bbs-3.21-bioc/R/bin/R CMD build --keep-empty-dirs --no-resave-data bcSeq StartedAt: 2025-02-20 16:31:58 -0500 (Thu, 20 Feb 2025) EndedAt: 2025-02-20 16:32:45 -0500 (Thu, 20 Feb 2025) EllapsedTime: 47.0 seconds RetCode: 0 Status: OK PackageFile: bcSeq_1.29.0.tar.gz PackageFileSize: 240.9 KiB