Package: baySeq Version: 2.41.0 Command: E:\biocbuild\bbs-3.21-bioc\R\bin\R.exe CMD INSTALL baySeq StartedAt: 2025-02-20 15:36:18 -0500 (Thu, 20 Feb 2025) EndedAt: 2025-02-20 15:36:58 -0500 (Thu, 20 Feb 2025) EllapsedTime: 40.7 seconds RetCode: 0 Status: OK