Package: baySeq Version: 2.41.0 Command: chmod a+r baySeq -R && E:\biocbuild\bbs-3.21-bioc\R\bin\R.exe CMD build --keep-empty-dirs --no-resave-data baySeq StartedAt: 2025-02-20 17:22:20 -0500 (Thu, 20 Feb 2025) EndedAt: 2025-02-20 17:31:25 -0500 (Thu, 20 Feb 2025) EllapsedTime: 545.5 seconds RetCode: 0 Status: OK PackageFile: baySeq_2.41.0.tar.gz PackageFileSize: 1.128 MiB