Package: baySeq Version: 2.41.0 Command: rm -rf baySeq.buildbin-libdir && mkdir baySeq.buildbin-libdir && /Users/biocbuild/BBS/utils/build-universal.sh baySeq_2.41.0.tar.gz /Library/Frameworks/R.framework/Resources/bin/R baySeq.buildbin-libdir StartedAt: 2025-02-21 00:20:12 -0500 (Fri, 21 Feb 2025) EndedAt: 2025-02-21 00:20:38 -0500 (Fri, 21 Feb 2025) EllapsedTime: 26.7 seconds RetCode: 0 Status: OK PackageFile: baySeq_2.41.0.tgz PackageFileSize: 1.608 MiB