Package: baySeq Version: 2.41.0 Command: /Library/Frameworks/R.framework/Resources/bin/R CMD INSTALL baySeq StartedAt: 2025-02-20 15:04:18 -0500 (Thu, 20 Feb 2025) EndedAt: 2025-02-20 15:04:24 -0500 (Thu, 20 Feb 2025) EllapsedTime: 6.6 seconds RetCode: 0 Status: OK