Package: baySeq Version: 2.41.0 Command: /Library/Frameworks/R.framework/Resources/bin/R CMD build --keep-empty-dirs --no-resave-data baySeq StartedAt: 2025-02-20 15:37:23 -0500 (Thu, 20 Feb 2025) EndedAt: 2025-02-20 15:39:20 -0500 (Thu, 20 Feb 2025) EllapsedTime: 117.2 seconds RetCode: 0 Status: OK PackageFile: baySeq_2.41.0.tar.gz PackageFileSize: 1.125 MiB