Package: bayNorm Version: 1.25.0 Command: E:\biocbuild\bbs-3.21-bioc\R\bin\R.exe CMD check --no-multiarch --install=check:bayNorm.install-out.txt --library=E:\biocbuild\bbs-3.21-bioc\R\library --no-vignettes --timings bayNorm_1.25.0.tar.gz StartedAt: 2025-02-19 22:49:45 -0500 (Wed, 19 Feb 2025) EndedAt: 2025-02-19 22:53:21 -0500 (Wed, 19 Feb 2025) EllapsedTime: 216.2 seconds RetCode: 0 Status: OK CheckDir: bayNorm.Rcheck Warnings: 0