Package: bayNorm Version: 1.25.0 Command: rm -rf bayNorm.buildbin-libdir && mkdir bayNorm.buildbin-libdir && E:\biocbuild\bbs-3.21-bioc\R\bin\R.exe CMD INSTALL --build --library=bayNorm.buildbin-libdir bayNorm_1.25.0.tar.gz StartedAt: 2025-02-20 07:18:35 -0500 (Thu, 20 Feb 2025) EndedAt: 2025-02-20 07:19:29 -0500 (Thu, 20 Feb 2025) EllapsedTime: 53.6 seconds RetCode: 0 Status: OK PackageFile: bayNorm_1.25.0.zip PackageFileSize: 851.1 KiB