Package: bayNorm Version: 1.25.0 Command: /Library/Frameworks/R.framework/Resources/bin/R CMD INSTALL bayNorm StartedAt: 2025-02-19 15:31:56 -0500 (Wed, 19 Feb 2025) EndedAt: 2025-02-19 15:32:48 -0500 (Wed, 19 Feb 2025) EllapsedTime: 52.2 seconds RetCode: 0 Status: OK