Package: batchelor Version: 1.23.0 Command: E:\biocbuild\bbs-3.21-bioc\R\bin\R.exe CMD INSTALL batchelor StartedAt: 2025-02-21 16:57:01 -0500 (Fri, 21 Feb 2025) EndedAt: 2025-02-21 16:58:12 -0500 (Fri, 21 Feb 2025) EllapsedTime: 70.7 seconds RetCode: 0 Status: OK