Package: batchelor Version: 1.23.0 Command: rm -rf batchelor.buildbin-libdir && mkdir batchelor.buildbin-libdir && E:\biocbuild\bbs-3.21-bioc\R\bin\R.exe CMD INSTALL --build --library=batchelor.buildbin-libdir batchelor_1.23.0.tar.gz StartedAt: 2025-02-22 07:53:32 -0500 (Sat, 22 Feb 2025) EndedAt: 2025-02-22 07:54:37 -0500 (Sat, 22 Feb 2025) EllapsedTime: 64.9 seconds RetCode: 0 Status: OK PackageFile: batchelor_1.23.0.zip PackageFileSize: 1.482 MiB