Package: batchelor Version: 1.23.0 Command: /home/biocbuild/bbs-3.21-bioc/R/bin/R CMD INSTALL batchelor StartedAt: 2025-02-20 16:07:22 -0500 (Thu, 20 Feb 2025) EndedAt: 2025-02-20 16:08:02 -0500 (Thu, 20 Feb 2025) EllapsedTime: 40.1 seconds RetCode: 0 Status: OK