Package: batchelor Version: 1.23.0 Command: /Library/Frameworks/R.framework/Resources/bin/R CMD build --keep-empty-dirs --no-resave-data batchelor StartedAt: 2025-02-21 15:56:45 -0500 (Fri, 21 Feb 2025) EndedAt: 2025-02-21 15:59:47 -0500 (Fri, 21 Feb 2025) EllapsedTime: 181.6 seconds RetCode: 0 Status: OK PackageFile: batchelor_1.23.0.tar.gz PackageFileSize: 2.059 MiB