Package: batchelor Version: 1.23.0 Command: /Library/Frameworks/R.framework/Resources/bin/R CMD INSTALL batchelor StartedAt: 2025-02-21 15:24:54 -0500 (Fri, 21 Feb 2025) EndedAt: 2025-02-21 15:25:09 -0500 (Fri, 21 Feb 2025) EllapsedTime: 15.0 seconds RetCode: 0 Status: OK