Package: basilisk Version: 1.19.1 Command: /home/biocbuild/bbs-3.21-bioc/R/bin/R CMD INSTALL basilisk StartedAt: 2025-02-17 15:10:57 -0500 (Mon, 17 Feb 2025) EndedAt: 2025-02-17 15:11:12 -0500 (Mon, 17 Feb 2025) EllapsedTime: 15.0 seconds RetCode: 0 Status: OK