Package: basilisk Version: 1.19.1 Command: /home/biocbuild/bbs-3.21-bioc/R/bin/R CMD check --install=check:basilisk.install-out.txt --library=/home/biocbuild/bbs-3.21-bioc/R/site-library --timings basilisk_1.19.1.tar.gz StartedAt: 2025-02-17 20:03:08 -0500 (Mon, 17 Feb 2025) EndedAt: 2025-02-17 20:13:19 -0500 (Mon, 17 Feb 2025) EllapsedTime: 610.7 seconds RetCode: 0 Status: OK CheckDir: basilisk.Rcheck Warnings: 0