Package: basilisk Version: 1.19.1 Command: /home/biocbuild/bbs-3.21-bioc/R/bin/R CMD build --keep-empty-dirs --no-resave-data basilisk StartedAt: 2025-02-17 16:12:45 -0500 (Mon, 17 Feb 2025) EndedAt: 2025-02-17 16:14:06 -0500 (Mon, 17 Feb 2025) EllapsedTime: 81.1 seconds RetCode: 0 Status: OK PackageFile: basilisk_1.19.1.tar.gz PackageFileSize: 263.9 KiB