Package: basilisk Version: 1.19.1 Command: /Library/Frameworks/R.framework/Resources/bin/R CMD build --keep-empty-dirs --no-resave-data basilisk StartedAt: 2025-02-17 15:55:38 -0500 (Mon, 17 Feb 2025) EndedAt: 2025-02-17 15:58:47 -0500 (Mon, 17 Feb 2025) EllapsedTime: 189.5 seconds RetCode: 0 Status: OK PackageFile: basilisk_1.19.1.tar.gz PackageFileSize: 263.7 KiB