Package: basilisk Version: 1.19.1 Command: /Library/Frameworks/R.framework/Resources/bin/R CMD INSTALL basilisk StartedAt: 2025-02-17 15:03:29 -0500 (Mon, 17 Feb 2025) EndedAt: 2025-02-17 15:03:35 -0500 (Mon, 17 Feb 2025) EllapsedTime: 5.4 seconds RetCode: 0 Status: OK