Package: basilisk Version: 1.19.1 Command: /Library/Frameworks/R.framework/Resources/bin/R CMD check --install=check:basilisk.install-out.txt --library=/Library/Frameworks/R.framework/Resources/library --no-vignettes --timings basilisk_1.19.1.tar.gz StartedAt: 2025-02-17 18:08:00 -0500 (Mon, 17 Feb 2025) EndedAt: 2025-02-17 18:14:20 -0500 (Mon, 17 Feb 2025) EllapsedTime: 379.6 seconds RetCode: 0 Status: OK CheckDir: basilisk.Rcheck Warnings: 0