Package: basilisk Version: 1.19.1 Command: /Library/Frameworks/R.framework/Resources/bin/R CMD build --keep-empty-dirs --no-resave-data basilisk StartedAt: 2025-02-17 15:36:46 -0500 (Mon, 17 Feb 2025) EndedAt: 2025-02-17 15:38:24 -0500 (Mon, 17 Feb 2025) EllapsedTime: 98.0 seconds RetCode: 0 Status: OK PackageFile: basilisk_1.19.1.tar.gz PackageFileSize: 263.8 KiB