Package: basilisk Version: 1.19.1 Command: rm -rf basilisk.buildbin-libdir && mkdir basilisk.buildbin-libdir && /Users/biocbuild/BBS/utils/build-universal.sh basilisk_1.19.1.tar.gz /Library/Frameworks/R.framework/Resources/bin/R basilisk.buildbin-libdir StartedAt: 2025-02-17 22:09:37 -0500 (Mon, 17 Feb 2025) EndedAt: 2025-02-17 22:09:41 -0500 (Mon, 17 Feb 2025) EllapsedTime: 4.1 seconds RetCode: 0 Status: OK PackageFile: basilisk_1.19.1.tgz PackageFileSize: 311.6 KiB