Package: basilisk.utils Version: 1.19.1 Command: /Library/Frameworks/R.framework/Resources/bin/R CMD INSTALL basilisk.utils StartedAt: 2025-02-20 15:02:57 -0500 (Thu, 20 Feb 2025) EndedAt: 2025-02-20 15:02:58 -0500 (Thu, 20 Feb 2025) EllapsedTime: 1.8 seconds RetCode: 0 Status: OK