Package: basilisk.utils Version: 1.19.1 Command: /Library/Frameworks/R.framework/Resources/bin/R CMD build --keep-empty-dirs --no-resave-data basilisk.utils StartedAt: 2025-02-20 15:36:55 -0500 (Thu, 20 Feb 2025) EndedAt: 2025-02-20 15:36:57 -0500 (Thu, 20 Feb 2025) EllapsedTime: 2.0 seconds RetCode: 0 Status: OK PackageFile: basilisk.utils_1.19.1.tar.gz PackageFileSize: 235.1 KiB