Package: basilisk.utils Version: 1.19.1 Command: rm -rf basilisk.utils.buildbin-libdir && mkdir basilisk.utils.buildbin-libdir && /Users/biocbuild/BBS/utils/build-universal.sh basilisk.utils_1.19.1.tar.gz /Library/Frameworks/R.framework/Resources/bin/R basilisk.utils.buildbin-libdir StartedAt: 2025-02-20 22:10:55 -0500 (Thu, 20 Feb 2025) EndedAt: 2025-02-20 22:10:57 -0500 (Thu, 20 Feb 2025) EllapsedTime: 2.0 seconds RetCode: 0 Status: OK PackageFile: basilisk.utils_1.19.1.tgz PackageFileSize: 287.6 KiB