Package: basecallQC Version: 1.31.0 Command: chmod a+r basecallQC -R && E:\biocbuild\bbs-3.21-bioc\R\bin\R.exe CMD build --keep-empty-dirs --no-resave-data basecallQC StartedAt: 2025-02-20 17:20:57 -0500 (Thu, 20 Feb 2025) EndedAt: 2025-02-20 17:22:55 -0500 (Thu, 20 Feb 2025) EllapsedTime: 117.8 seconds RetCode: 0 Status: OK PackageFile: basecallQC_1.31.0.tar.gz PackageFileSize: 1.394 MiB