Package: basecallQC Version: 1.31.0 Command: /home/biocbuild/bbs-3.21-bioc/R/bin/R CMD INSTALL basecallQC StartedAt: 2025-02-20 16:03:26 -0500 (Thu, 20 Feb 2025) EndedAt: 2025-02-20 16:04:17 -0500 (Thu, 20 Feb 2025) EllapsedTime: 51.5 seconds RetCode: 0 Status: OK