Package: basecallQC Version: 1.31.0 Command: /home/biocbuild/bbs-3.21-bioc/R/bin/R CMD check --install=check:basecallQC.install-out.txt --library=/home/biocbuild/bbs-3.21-bioc/R/site-library --timings basecallQC_1.31.0.tar.gz StartedAt: 2025-02-20 20:06:08 -0500 (Thu, 20 Feb 2025) EndedAt: 2025-02-20 20:13:44 -0500 (Thu, 20 Feb 2025) EllapsedTime: 455.5 seconds RetCode: 0 Status: OK CheckDir: basecallQC.Rcheck Warnings: 0