Package: basecallQC Version: 1.31.0 Command: /home/biocbuild/bbs-3.21-bioc/R/bin/R CMD build --keep-empty-dirs --no-resave-data basecallQC StartedAt: 2025-02-20 16:29:51 -0500 (Thu, 20 Feb 2025) EndedAt: 2025-02-20 16:31:13 -0500 (Thu, 20 Feb 2025) EllapsedTime: 81.1 seconds RetCode: 0 Status: OK PackageFile: basecallQC_1.31.0.tar.gz PackageFileSize: 1.533 MiB