Package: basecallQC Version: 1.31.0 Command: rm -rf basecallQC.buildbin-libdir && mkdir basecallQC.buildbin-libdir && /Users/biocbuild/BBS/utils/build-universal.sh basecallQC_1.31.0.tar.gz /Library/Frameworks/R.framework/Resources/bin/R basecallQC.buildbin-libdir StartedAt: 2025-02-21 00:19:52 -0500 (Fri, 21 Feb 2025) EndedAt: 2025-02-21 00:21:06 -0500 (Fri, 21 Feb 2025) EllapsedTime: 73.8 seconds RetCode: 0 Status: OK PackageFile: basecallQC_1.31.0.tgz PackageFileSize: 1.258 MiB