Package: basecallQC Version: 1.31.0 Command: /Library/Frameworks/R.framework/Resources/bin/R CMD check --install=check:basecallQC.install-out.txt --library=/Library/Frameworks/R.framework/Resources/library --no-vignettes --timings basecallQC_1.31.0.tar.gz StartedAt: 2025-02-20 18:08:05 -0500 (Thu, 20 Feb 2025) EndedAt: 2025-02-20 18:10:42 -0500 (Thu, 20 Feb 2025) EllapsedTime: 156.7 seconds RetCode: 0 Status: OK CheckDir: basecallQC.Rcheck Warnings: 0