Package: barcodetrackR Version: 1.15.0 Command: E:\biocbuild\bbs-3.21-bioc\R\bin\R.exe CMD INSTALL barcodetrackR StartedAt: 2025-02-20 16:10:57 -0500 (Thu, 20 Feb 2025) EndedAt: 2025-02-20 16:11:43 -0500 (Thu, 20 Feb 2025) EllapsedTime: 45.7 seconds RetCode: 0 Status: OK