Package: barcodetrackR Version: 1.15.0 Command: chmod a+r barcodetrackR -R && E:\biocbuild\bbs-3.21-bioc\R\bin\R.exe CMD build --keep-empty-dirs --no-resave-data barcodetrackR StartedAt: 2025-02-20 17:20:52 -0500 (Thu, 20 Feb 2025) EndedAt: 2025-02-20 17:22:56 -0500 (Thu, 20 Feb 2025) EllapsedTime: 123.5 seconds RetCode: 0 Status: OK PackageFile: barcodetrackR_1.15.0.tar.gz PackageFileSize: 1.898 MiB