Package: barcodetrackR Version: 1.15.0 Command: rm -rf barcodetrackR.buildbin-libdir && mkdir barcodetrackR.buildbin-libdir && E:\biocbuild\bbs-3.21-bioc\R\bin\R.exe CMD INSTALL --build --library=barcodetrackR.buildbin-libdir barcodetrackR_1.15.0.tar.gz StartedAt: 2025-02-21 07:35:41 -0500 (Fri, 21 Feb 2025) EndedAt: 2025-02-21 07:36:40 -0500 (Fri, 21 Feb 2025) EllapsedTime: 58.8 seconds RetCode: 0 Status: OK PackageFile: barcodetrackR_1.15.0.zip PackageFileSize: 2.056 MiB