Package: barcodetrackR Version: 1.15.0 Command: /home/biocbuild/bbs-3.21-bioc/R/bin/R CMD INSTALL barcodetrackR StartedAt: 2025-02-20 15:27:17 -0500 (Thu, 20 Feb 2025) EndedAt: 2025-02-20 15:27:42 -0500 (Thu, 20 Feb 2025) EllapsedTime: 25.1 seconds RetCode: 0 Status: OK